Package: biscuiteerData Version: 1.25.0 Command: /home/biocbuild/bbs-3.23-bioc/R/bin/R CMD INSTALL biscuiteerData StartedAt: 2025-11-13 10:58:01 -0500 (Thu, 13 Nov 2025) EndedAt: 2025-11-13 10:58:19 -0500 (Thu, 13 Nov 2025) EllapsedTime: 17.9 seconds RetCode: 0 Status: OK