Package: biscuiteerData Version: 1.25.0 Command: /home/biocbuild/bbs-3.23-bioc/R/bin/R CMD check --install=check:biscuiteerData.install-out.txt --library=/home/biocbuild/bbs-3.23-bioc/R/site-library --timings biscuiteerData_1.25.0.tar.gz StartedAt: 2025-11-11 12:02:12 -0500 (Tue, 11 Nov 2025) EndedAt: 2025-11-11 12:04:30 -0500 (Tue, 11 Nov 2025) EllapsedTime: 137.5 seconds RetCode: 0 Status: OK CheckDir: biscuiteerData.Rcheck Warnings: 0