Package: biscuiteerData Version: 1.25.0 Command: /home/biocbuild/bbs-3.23-bioc/R/bin/R CMD build --keep-empty-dirs --no-resave-data biscuiteerData StartedAt: 2025-11-13 11:08:04 -0500 (Thu, 13 Nov 2025) EndedAt: 2025-11-13 11:08:34 -0500 (Thu, 13 Nov 2025) EllapsedTime: 29.7 seconds RetCode: 0 Status: OK PackageFile: biscuiteerData_1.25.0.tar.gz PackageFileSize: 188.5 KiB