Package: biscuiteerData Version: 1.25.0 Maintainer: "Jacob Morrison" MaintainerEmail: jacob.morrison at vai.org git_url: https://git.bioconductor.org/packages/biscuiteerData git_branch: devel git_last_commit: 88ae79b git_last_commit_date: 2025-10-29 10:02:03 -0500 (Wed, 29 Oct 2025)