Package: beadarrayExampleData Version: 1.49.0 Command: /home/biocbuild/bbs-3.23-bioc/R/bin/R CMD INSTALL beadarrayExampleData StartedAt: 2025-11-11 10:58:02 -0500 (Tue, 11 Nov 2025) EndedAt: 2025-11-11 10:58:12 -0500 (Tue, 11 Nov 2025) EllapsedTime: 11.0 seconds RetCode: 0 Status: OK