Package: antiProfilesData Version: 1.47.0 Command: /home/biocbuild/bbs-3.23-bioc/R/bin/R CMD build --keep-empty-dirs --no-resave-data antiProfilesData StartedAt: 2025-11-11 11:07:30 -0500 (Tue, 11 Nov 2025) EndedAt: 2025-11-11 11:07:31 -0500 (Tue, 11 Nov 2025) EllapsedTime: 1.3 seconds RetCode: 0 Status: OK PackageFile: antiProfilesData_1.47.0.tar.gz PackageFileSize: 2.714 MiB