Package: affydata Version: 1.59.0 Command: /home/biocbuild/bbs-3.23-bioc/R/bin/R CMD check --install=check:affydata.install-out.txt --library=/home/biocbuild/bbs-3.23-bioc/R/site-library --timings affydata_1.59.0.tar.gz StartedAt: 2025-11-13 12:02:16 -0500 (Thu, 13 Nov 2025) EndedAt: 2025-11-13 12:03:06 -0500 (Thu, 13 Nov 2025) EllapsedTime: 50.2 seconds RetCode: 0 Status: WARNINGS CheckDir: affydata.Rcheck Warnings: 2