Package: adductData Version: 1.27.0 Command: /home/biocbuild/bbs-3.23-bioc/R/bin/R CMD INSTALL adductData StartedAt: 2025-11-11 10:57:07 -0500 (Tue, 11 Nov 2025) EndedAt: 2025-11-11 10:57:16 -0500 (Tue, 11 Nov 2025) EllapsedTime: 9.6 seconds RetCode: 0 Status: OK