Package: XhybCasneuf Version: 1.49.0 Command: /home/biocbuild/bbs-3.23-bioc/R/bin/R CMD build --keep-empty-dirs --no-resave-data XhybCasneuf StartedAt: 2025-11-13 11:49:26 -0500 (Thu, 13 Nov 2025) EndedAt: 2025-11-13 11:49:46 -0500 (Thu, 13 Nov 2025) EllapsedTime: 19.5 seconds RetCode: 0 Status: OK PackageFile: XhybCasneuf_1.49.0.tar.gz PackageFileSize: 3.37 MiB