Package: WeberDivechaLCdata Version: 1.13.0 Command: /home/biocbuild/bbs-3.23-bioc/R/bin/R CMD INSTALL WeberDivechaLCdata StartedAt: 2025-11-13 10:58:26 -0500 (Thu, 13 Nov 2025) EndedAt: 2025-11-13 10:58:56 -0500 (Thu, 13 Nov 2025) EllapsedTime: 30.3 seconds RetCode: 0 Status: OK