Package: WeberDivechaLCdata Version: 1.13.0 Command: /home/biocbuild/bbs-3.23-bioc/R/bin/R CMD build --keep-empty-dirs --no-resave-data WeberDivechaLCdata StartedAt: 2025-11-13 11:49:06 -0500 (Thu, 13 Nov 2025) EndedAt: 2025-11-13 11:50:48 -0500 (Thu, 13 Nov 2025) EllapsedTime: 102.1 seconds RetCode: 0 Status: OK PackageFile: WeberDivechaLCdata_1.13.0.tar.gz PackageFileSize: 223.6 KiB