Package: WGSmapp Version: 1.23.0 Command: /home/biocbuild/bbs-3.23-bioc/R/bin/R CMD INSTALL WGSmapp StartedAt: 2025-11-13 10:57:59 -0500 (Thu, 13 Nov 2025) EndedAt: 2025-11-13 10:58:43 -0500 (Thu, 13 Nov 2025) EllapsedTime: 43.1 seconds RetCode: 0 Status: OK