Package: WGSmapp Version: 1.23.0 Command: /home/biocbuild/bbs-3.23-bioc/R/bin/R CMD build --keep-empty-dirs --no-resave-data WGSmapp StartedAt: 2025-11-13 11:49:22 -0500 (Thu, 13 Nov 2025) EndedAt: 2025-11-13 11:49:41 -0500 (Thu, 13 Nov 2025) EllapsedTime: 19.1 seconds RetCode: 0 Status: OK PackageFile: WGSmapp_1.23.0.tar.gz PackageFileSize: 195.7 MiB