Package: WES.1KG.WUGSC Version: 1.43.0 Command: /home/biocbuild/bbs-3.23-bioc/R/bin/R CMD check --install=check:WES.1KG.WUGSC.install-out.txt --library=/home/biocbuild/bbs-3.23-bioc/R/site-library --timings WES.1KG.WUGSC_1.43.0.tar.gz StartedAt: 2025-11-11 13:14:25 -0500 (Tue, 11 Nov 2025) EndedAt: 2025-11-11 13:14:54 -0500 (Tue, 11 Nov 2025) EllapsedTime: 29.0 seconds RetCode: 0 Status: OK CheckDir: WES.1KG.WUGSC.Rcheck Warnings: 0