Package: WES.1KG.WUGSC Version: 1.43.0 Command: /home/biocbuild/bbs-3.23-bioc/R/bin/R CMD build --keep-empty-dirs --no-resave-data WES.1KG.WUGSC StartedAt: 2025-11-11 11:48:23 -0500 (Tue, 11 Nov 2025) EndedAt: 2025-11-11 11:48:49 -0500 (Tue, 11 Nov 2025) EllapsedTime: 26.1 seconds RetCode: 0 Status: OK PackageFile: WES.1KG.WUGSC_1.43.0.tar.gz PackageFileSize: 373.3 MiB