Package: VectraPolarisData Version: 1.15.0 Command: /home/biocbuild/bbs-3.23-bioc/R/bin/R CMD INSTALL VectraPolarisData StartedAt: 2025-11-11 11:00:20 -0500 (Tue, 11 Nov 2025) EndedAt: 2025-11-11 11:00:49 -0500 (Tue, 11 Nov 2025) EllapsedTime: 28.8 seconds RetCode: 0 Status: OK