Package: VariantToolsData Version: 1.35.0 Command: /home/biocbuild/bbs-3.23-bioc/R/bin/R CMD INSTALL VariantToolsData StartedAt: 2025-11-11 11:03:42 -0500 (Tue, 11 Nov 2025) EndedAt: 2025-11-11 11:04:18 -0500 (Tue, 11 Nov 2025) EllapsedTime: 36.4 seconds RetCode: 0 Status: OK