Package: VariantToolsData Version: 1.35.0 Command: /home/biocbuild/bbs-3.23-bioc/R/bin/R CMD check --install=check:VariantToolsData.install-out.txt --library=/home/biocbuild/bbs-3.23-bioc/R/site-library --timings VariantToolsData_1.35.0.tar.gz StartedAt: 2025-11-11 13:13:22 -0500 (Tue, 11 Nov 2025) EndedAt: 2025-11-11 13:17:50 -0500 (Tue, 11 Nov 2025) EllapsedTime: 268.1 seconds RetCode: 0 Status: OK CheckDir: VariantToolsData.Rcheck Warnings: 0