Package: TumourMethData Version: 1.9.0 Command: /home/biocbuild/bbs-3.23-bioc/R/bin/R CMD check --install=check:TumourMethData.install-out.txt --library=/home/biocbuild/bbs-3.23-bioc/R/site-library --timings TumourMethData_1.9.0.tar.gz StartedAt: 2025-11-11 13:12:25 -0500 (Tue, 11 Nov 2025) EndedAt: 2025-11-11 13:16:09 -0500 (Tue, 11 Nov 2025) EllapsedTime: 223.6 seconds RetCode: 0 Status: WARNINGS CheckDir: TumourMethData.Rcheck Warnings: 1