Package: TumourMethData Version: 1.9.0 Command: /home/biocbuild/bbs-3.23-bioc/R/bin/R CMD build --keep-empty-dirs --no-resave-data TumourMethData StartedAt: 2025-11-13 11:48:00 -0500 (Thu, 13 Nov 2025) EndedAt: 2025-11-13 11:48:44 -0500 (Thu, 13 Nov 2025) EllapsedTime: 44.0 seconds RetCode: 0 Status: OK PackageFile: TumourMethData_1.9.0.tar.gz PackageFileSize: 20.68 KiB