Package: TransOmicsData Version: 1.7.0 Command: /home/biocbuild/bbs-3.23-bioc/R/bin/R CMD build --keep-empty-dirs --no-resave-data TransOmicsData StartedAt: 2025-11-13 11:47:44 -0500 (Thu, 13 Nov 2025) EndedAt: 2025-11-13 11:48:00 -0500 (Thu, 13 Nov 2025) EllapsedTime: 15.4 seconds RetCode: 0 Status: OK PackageFile: TransOmicsData_1.7.0.tar.gz PackageFileSize: 232.8 KiB