Package: TransOmicsData Version: 1.7.0 Maintainer: Di Xiao MaintainerEmail: d.xiao at sydney.edu.au git_url: https://git.bioconductor.org/packages/TransOmicsData git_branch: devel git_last_commit: cd83c45 git_last_commit_date: 2025-10-29 10:06:24 -0500 (Wed, 29 Oct 2025)