Package: TargetSearchData Version: 1.49.0 Command: /home/biocbuild/bbs-3.23-bioc/R/bin/R CMD check --install=check:TargetSearchData.install-out.txt --library=/home/biocbuild/bbs-3.23-bioc/R/site-library --timings TargetSearchData_1.49.0.tar.gz StartedAt: 2025-11-11 13:05:52 -0500 (Tue, 11 Nov 2025) EndedAt: 2025-11-11 13:06:23 -0500 (Tue, 11 Nov 2025) EllapsedTime: 31.0 seconds RetCode: 0 Status: OK CheckDir: TargetSearchData.Rcheck Warnings: 0