Package: TargetScoreData Version: 1.47.0 Command: /home/biocbuild/bbs-3.23-bioc/R/bin/R CMD INSTALL TargetScoreData StartedAt: 2025-11-11 10:55:26 -0500 (Tue, 11 Nov 2025) EndedAt: 2025-11-11 10:55:28 -0500 (Tue, 11 Nov 2025) EllapsedTime: 2.4 seconds RetCode: 0 Status: OK