Package: TargetScoreData Version: 1.47.0 Command: /home/biocbuild/bbs-3.23-bioc/R/bin/R CMD check --install=check:TargetScoreData.install-out.txt --library=/home/biocbuild/bbs-3.23-bioc/R/site-library --timings TargetScoreData_1.47.0.tar.gz StartedAt: 2025-11-13 13:11:16 -0500 (Thu, 13 Nov 2025) EndedAt: 2025-11-13 13:12:29 -0500 (Thu, 13 Nov 2025) EllapsedTime: 73.0 seconds RetCode: 0 Status: OK CheckDir: TargetScoreData.Rcheck Warnings: 0