Package: TabulaMurisSenisData Version: 1.17.0 Maintainer: Charlotte Soneson MaintainerEmail: charlottesoneson at gmail.com git_url: https://git.bioconductor.org/packages/TabulaMurisSenisData git_branch: devel git_last_commit: 94ed110 git_last_commit_date: 2025-10-29 10:04:14 -0500 (Wed, 29 Oct 2025)