Package: TabulaMurisData Version: 1.29.0 Command: /home/biocbuild/bbs-3.23-bioc/R/bin/R CMD check --install=check:TabulaMurisData.install-out.txt --library=/home/biocbuild/bbs-3.23-bioc/R/site-library --timings TabulaMurisData_1.29.0.tar.gz StartedAt: 2025-11-11 13:04:38 -0500 (Tue, 11 Nov 2025) EndedAt: 2025-11-11 13:08:20 -0500 (Tue, 11 Nov 2025) EllapsedTime: 222.0 seconds RetCode: 0 Status: OK CheckDir: TabulaMurisData.Rcheck Warnings: 0