Package: TMExplorer Version: 1.21.0 Command: /home/biocbuild/bbs-3.23-bioc/R/bin/R CMD check --install=check:TMExplorer.install-out.txt --library=/home/biocbuild/bbs-3.23-bioc/R/site-library --timings TMExplorer_1.21.0.tar.gz StartedAt: 2025-11-11 13:11:22 -0500 (Tue, 11 Nov 2025) EndedAt: 2025-11-11 13:19:26 -0500 (Tue, 11 Nov 2025) EllapsedTime: 484.2 seconds RetCode: 0 Status: OK CheckDir: TMExplorer.Rcheck Warnings: 0