Package: TENxXeniumData Version: 1.7.0 Command: /home/biocbuild/bbs-3.23-bioc/R/bin/R CMD check --install=check:TENxXeniumData.install-out.txt --library=/home/biocbuild/bbs-3.23-bioc/R/site-library --timings TENxXeniumData_1.7.0.tar.gz StartedAt: 2025-11-11 13:10:20 -0500 (Tue, 11 Nov 2025) EndedAt: 2025-11-11 13:18:21 -0500 (Tue, 11 Nov 2025) EllapsedTime: 481.2 seconds RetCode: 0 Status: OK CheckDir: TENxXeniumData.Rcheck Warnings: 0