Package: TENxVisiumData Version: 1.19.0 Command: /home/biocbuild/bbs-3.23-bioc/R/bin/R CMD check --install=check:TENxVisiumData.install-out.txt --library=/home/biocbuild/bbs-3.23-bioc/R/site-library --timings TENxVisiumData_1.19.0.tar.gz StartedAt: 2025-11-11 13:09:01 -0500 (Tue, 11 Nov 2025) EndedAt: 2025-11-11 13:12:17 -0500 (Tue, 11 Nov 2025) EllapsedTime: 195.9 seconds RetCode: 0 Status: OK CheckDir: TENxVisiumData.Rcheck Warnings: 0