Package: TENxBUSData Version: 1.25.0 Command: /home/biocbuild/bbs-3.23-bioc/R/bin/R CMD check --install=check:TENxBUSData.install-out.txt --library=/home/biocbuild/bbs-3.23-bioc/R/site-library --timings TENxBUSData_1.25.0.tar.gz StartedAt: 2025-11-11 13:08:25 -0500 (Tue, 11 Nov 2025) EndedAt: 2025-11-11 13:10:27 -0500 (Tue, 11 Nov 2025) EllapsedTime: 121.3 seconds RetCode: 0 Status: OK CheckDir: TENxBUSData.Rcheck Warnings: 0