Package: TENET.ExperimentHub Version: 1.3.0 Command: /home/biocbuild/bbs-3.23-bioc/R/bin/R CMD INSTALL TENET.ExperimentHub StartedAt: 2025-11-11 10:59:12 -0500 (Tue, 11 Nov 2025) EndedAt: 2025-11-11 10:59:35 -0500 (Tue, 11 Nov 2025) EllapsedTime: 23.1 seconds RetCode: 0 Status: OK