Package: TENET.ExperimentHub Version: 1.3.0 Command: /home/biocbuild/bbs-3.23-bioc/R/bin/R CMD check --install=check:TENET.ExperimentHub.install-out.txt --library=/home/biocbuild/bbs-3.23-bioc/R/site-library --timings TENET.ExperimentHub_1.3.0.tar.gz StartedAt: 2025-11-13 13:13:43 -0500 (Thu, 13 Nov 2025) EndedAt: 2025-11-13 13:16:39 -0500 (Thu, 13 Nov 2025) EllapsedTime: 175.9 seconds RetCode: 0 Status: OK CheckDir: TENET.ExperimentHub.Rcheck Warnings: 0