Package: TENET.ExperimentHub Version: 1.3.0 Command: /home/biocbuild/bbs-3.23-bioc/R/bin/R CMD build --keep-empty-dirs --no-resave-data TENET.ExperimentHub StartedAt: 2025-11-11 11:45:31 -0500 (Tue, 11 Nov 2025) EndedAt: 2025-11-11 11:46:24 -0500 (Tue, 11 Nov 2025) EllapsedTime: 53.6 seconds RetCode: 0 Status: OK PackageFile: TENET.ExperimentHub_1.3.0.tar.gz PackageFileSize: 245.8 KiB