Package: TENET.ExperimentHub Version: 1.3.0 Maintainer: Rhie Lab at the University of Southern California MaintainerEmail: rhielab at gmail.com git_url: https://git.bioconductor.org/packages/TENET.ExperimentHub git_branch: devel git_last_commit: a829d1f git_last_commit_date: 2025-10-29 10:06:53 -0500 (Wed, 29 Oct 2025)