Package: TCGAcrcmiRNA Version: 1.31.0 Command: /home/biocbuild/bbs-3.23-bioc/R/bin/R CMD INSTALL TCGAcrcmiRNA StartedAt: 2025-11-11 10:56:07 -0500 (Tue, 11 Nov 2025) EndedAt: 2025-11-11 10:56:10 -0500 (Tue, 11 Nov 2025) EllapsedTime: 2.5 seconds RetCode: 0 Status: OK