Package: TCGAcrcmiRNA Version: 1.31.0 Command: /home/biocbuild/bbs-3.23-bioc/R/bin/R CMD build --keep-empty-dirs --no-resave-data TCGAcrcmiRNA StartedAt: 2025-11-11 11:45:20 -0500 (Tue, 11 Nov 2025) EndedAt: 2025-11-11 11:45:26 -0500 (Tue, 11 Nov 2025) EllapsedTime: 5.6 seconds RetCode: 0 Status: OK PackageFile: TCGAcrcmiRNA_1.31.0.tar.gz PackageFileSize: 925.1 KiB