Package: TCGAcrcmRNA Version: 1.31.0 Command: /home/biocbuild/bbs-3.23-bioc/R/bin/R CMD build --keep-empty-dirs --no-resave-data TCGAcrcmRNA StartedAt: 2025-11-11 11:45:21 -0500 (Tue, 11 Nov 2025) EndedAt: 2025-11-11 11:45:32 -0500 (Tue, 11 Nov 2025) EllapsedTime: 11.0 seconds RetCode: 0 Status: OK PackageFile: TCGAcrcmRNA_1.31.0.tar.gz PackageFileSize: 35.3 MiB