Package: TCGAbiolinksGUI.data Version: 1.31.0 Command: /home/biocbuild/bbs-3.23-bioc/R/bin/R CMD INSTALL TCGAbiolinksGUI.data StartedAt: 2025-11-13 10:55:22 -0500 (Thu, 13 Nov 2025) EndedAt: 2025-11-13 10:55:30 -0500 (Thu, 13 Nov 2025) EllapsedTime: 7.5 seconds RetCode: 0 Status: OK