Package: TCGAbiolinksGUI.data Version: 1.31.0 Command: /home/biocbuild/bbs-3.23-bioc/R/bin/R CMD check --install=check:TCGAbiolinksGUI.data.install-out.txt --library=/home/biocbuild/bbs-3.23-bioc/R/site-library --timings TCGAbiolinksGUI.data_1.31.0.tar.gz StartedAt: 2025-11-11 13:06:34 -0500 (Tue, 11 Nov 2025) EndedAt: 2025-11-11 13:10:20 -0500 (Tue, 11 Nov 2025) EllapsedTime: 225.6 seconds RetCode: 0 Status: WARNINGS CheckDir: TCGAbiolinksGUI.data.Rcheck Warnings: 1