Package: TCGAWorkflowData Version: 1.35.0 Command: /home/biocbuild/bbs-3.23-bioc/R/bin/R CMD check --install=check:TCGAWorkflowData.install-out.txt --library=/home/biocbuild/bbs-3.23-bioc/R/site-library --timings TCGAWorkflowData_1.35.0.tar.gz StartedAt: 2025-11-11 13:08:21 -0500 (Tue, 11 Nov 2025) EndedAt: 2025-11-11 13:16:35 -0500 (Tue, 11 Nov 2025) EllapsedTime: 494.3 seconds RetCode: 0 Status: OK CheckDir: TCGAWorkflowData.Rcheck Warnings: 0