Package: TCGAMethylation450k Version: 1.47.0 Command: /home/biocbuild/bbs-3.23-bioc/R/bin/R CMD INSTALL TCGAMethylation450k StartedAt: 2025-11-13 10:55:32 -0500 (Thu, 13 Nov 2025) EndedAt: 2025-11-13 10:55:34 -0500 (Thu, 13 Nov 2025) EllapsedTime: 2.0 seconds RetCode: 0 Status: OK