Package: TBX20BamSubset Version: 1.47.0 Command: /home/biocbuild/bbs-3.23-bioc/R/bin/R CMD build --keep-empty-dirs --no-resave-data TBX20BamSubset StartedAt: 2025-11-11 11:45:08 -0500 (Tue, 11 Nov 2025) EndedAt: 2025-11-11 11:45:30 -0500 (Tue, 11 Nov 2025) EllapsedTime: 22.7 seconds RetCode: 0 Status: OK PackageFile: TBX20BamSubset_1.47.0.tar.gz PackageFileSize: 94.74 MiB