Package: SpikeInSubset Version: 1.51.0 Command: /home/biocbuild/bbs-3.23-bioc/R/bin/R CMD check --install=check:SpikeInSubset.install-out.txt --library=/home/biocbuild/bbs-3.23-bioc/R/site-library --timings SpikeInSubset_1.51.0.tar.gz StartedAt: 2025-11-11 13:03:29 -0500 (Tue, 11 Nov 2025) EndedAt: 2025-11-11 13:04:58 -0500 (Tue, 11 Nov 2025) EllapsedTime: 89.2 seconds RetCode: 0 Status: WARNINGS CheckDir: SpikeInSubset.Rcheck Warnings: 3