Package: SpikeInSubset Version: 1.51.0 Command: /home/biocbuild/bbs-3.23-bioc/R/bin/R CMD build --keep-empty-dirs --no-resave-data SpikeInSubset StartedAt: 2025-11-11 11:43:35 -0500 (Tue, 11 Nov 2025) EndedAt: 2025-11-11 11:43:39 -0500 (Tue, 11 Nov 2025) EllapsedTime: 4.0 seconds RetCode: 0 Status: OK PackageFile: SpikeInSubset_1.51.0.tar.gz PackageFileSize: 17.99 MiB