Package: SpikeIn Version: 1.53.0 Command: /home/biocbuild/bbs-3.23-bioc/R/bin/R CMD INSTALL SpikeIn StartedAt: 2025-11-13 10:56:14 -0500 (Thu, 13 Nov 2025) EndedAt: 2025-11-13 10:56:23 -0500 (Thu, 13 Nov 2025) EllapsedTime: 9.7 seconds RetCode: 0 Status: OK