Package: SpatialDatasets Version: 1.9.0 Command: /home/biocbuild/bbs-3.23-bioc/R/bin/R CMD build --keep-empty-dirs --no-resave-data SpatialDatasets StartedAt: 2025-11-11 11:43:21 -0500 (Tue, 11 Nov 2025) EndedAt: 2025-11-11 12:01:38 -0500 (Tue, 11 Nov 2025) EllapsedTime: 1096.8 seconds RetCode: 0 Status: OK PackageFile: SpatialDatasets_1.9.0.tar.gz PackageFileSize: 227.8 KiB