Package: SomatiCAData Version: 1.49.0 Command: /home/biocbuild/bbs-3.23-bioc/R/bin/R CMD check --install=check:SomatiCAData.install-out.txt --library=/home/biocbuild/bbs-3.23-bioc/R/site-library --timings SomatiCAData_1.49.0.tar.gz StartedAt: 2025-11-11 13:02:37 -0500 (Tue, 11 Nov 2025) EndedAt: 2025-11-11 13:04:37 -0500 (Tue, 11 Nov 2025) EllapsedTime: 119.5 seconds RetCode: 0 Status: WARNINGS CheckDir: SomatiCAData.Rcheck Warnings: 2