Package: SomatiCAData Version: 1.49.0 Command: /home/biocbuild/bbs-3.23-bioc/R/bin/R CMD build --keep-empty-dirs --no-resave-data SomatiCAData StartedAt: 2025-11-11 11:43:18 -0500 (Tue, 11 Nov 2025) EndedAt: 2025-11-11 11:43:21 -0500 (Tue, 11 Nov 2025) EllapsedTime: 3.3 seconds RetCode: 0 Status: OK PackageFile: SomatiCAData_1.49.0.tar.gz PackageFileSize: 32.14 MiB