Package: SingleCellMultiModal Version: 1.23.0 Command: /home/biocbuild/bbs-3.23-bioc/R/bin/R CMD build --keep-empty-dirs --no-resave-data SingleCellMultiModal StartedAt: 2025-11-11 11:42:53 -0500 (Tue, 11 Nov 2025) EndedAt: 2025-11-11 11:48:51 -0500 (Tue, 11 Nov 2025) EllapsedTime: 358.6 seconds RetCode: 0 Status: OK PackageFile: SingleCellMultiModal_1.23.0.tar.gz PackageFileSize: 2.89 MiB